BEGIN:VCALENDAR
VERSION:2.0
PRODID:-//The Institute of Plumbing Australia - ECPv6.15.18//NONSGML v1.0//EN
CALSCALE:GREGORIAN
METHOD:PUBLISH
X-WR-CALNAME:The Institute of Plumbing Australia
X-ORIGINAL-URL:https://plumbing.org.au
X-WR-CALDESC:Events for The Institute of Plumbing Australia
REFRESH-INTERVAL;VALUE=DURATION:PT1H
X-Robots-Tag:noindex
X-PUBLISHED-TTL:PT1H
BEGIN:VTIMEZONE
TZID:Australia/Perth
BEGIN:STANDARD
TZOFFSETFROM:+0800
TZOFFSETTO:+0800
TZNAME:AWST
DTSTART:20250101T000000
END:STANDARD
END:VTIMEZONE
BEGIN:VEVENT
DTSTART;TZID=Australia/Perth:20260505T080000
DTEND;TZID=Australia/Perth:20260507T170000
DTSTAMP:20260425T001928
CREATED:20240913T020647Z
LAST-MODIFIED:20240913T020647Z
UID:2574-1777968000-1778173200@plumbing.org.au
SUMMARY:ARBS 2026 Australia's largest HVAC&R and building services event
DESCRIPTION:
URL:https://plumbing.org.au/events-calendar/arbs-2026-australias-largest-hvacr-and-building-services-event/
LOCATION:Melbourne Convention & Exhibition Centre\, 1 Convention Centre Pl\, South Wharf\, VIC\, 3006\, Australia
END:VEVENT
BEGIN:VEVENT
DTSTART;TZID=Australia/Perth:20260523T080000
DTEND;TZID=Australia/Perth:20260525T170000
DTSTAMP:20260425T001928
CREATED:20240911T062155Z
LAST-MODIFIED:20240911T062155Z
UID:2572-1779523200-1779728400@plumbing.org.au
SUMMARY:World Plumbing Council Conference 2026
DESCRIPTION:The World Plumbing Council Conference 2026\, is taking place at the NEC (Birmingham\, United Kingdom) from 23-25 June 2026\, alongside InstallerSHOW 2026. \n  \nThe official website will be going live early 2025.
URL:https://plumbing.org.au/events-calendar/world-plumbing-council-conference-2026/
END:VEVENT
END:VCALENDAR